BEGIN:VCALENDAR
VERSION:2.0
PRODID:-//The American Association for Homeopathic Products - ECPv6.15.20//NONSGML v1.0//EN
CALSCALE:GREGORIAN
METHOD:PUBLISH
X-WR-CALNAME:The American Association for Homeopathic Products
X-ORIGINAL-URL:https://theaahp.org
X-WR-CALDESC:Events for The American Association for Homeopathic Products
REFRESH-INTERVAL;VALUE=DURATION:PT1H
X-Robots-Tag:noindex
X-PUBLISHED-TTL:PT1H
BEGIN:VTIMEZONE
TZID:America/New_York
BEGIN:DAYLIGHT
TZOFFSETFROM:-0500
TZOFFSETTO:-0400
TZNAME:EDT
DTSTART:20130310T070000
END:DAYLIGHT
BEGIN:STANDARD
TZOFFSETFROM:-0400
TZOFFSETTO:-0500
TZNAME:EST
DTSTART:20131103T060000
END:STANDARD
BEGIN:DAYLIGHT
TZOFFSETFROM:-0500
TZOFFSETTO:-0400
TZNAME:EDT
DTSTART:20140309T070000
END:DAYLIGHT
BEGIN:STANDARD
TZOFFSETFROM:-0400
TZOFFSETTO:-0500
TZNAME:EST
DTSTART:20141102T060000
END:STANDARD
BEGIN:DAYLIGHT
TZOFFSETFROM:-0500
TZOFFSETTO:-0400
TZNAME:EDT
DTSTART:20150308T070000
END:DAYLIGHT
BEGIN:STANDARD
TZOFFSETFROM:-0400
TZOFFSETTO:-0500
TZNAME:EST
DTSTART:20151101T060000
END:STANDARD
BEGIN:DAYLIGHT
TZOFFSETFROM:-0500
TZOFFSETTO:-0400
TZNAME:EDT
DTSTART:20160313T070000
END:DAYLIGHT
BEGIN:STANDARD
TZOFFSETFROM:-0400
TZOFFSETTO:-0500
TZNAME:EST
DTSTART:20161106T060000
END:STANDARD
BEGIN:DAYLIGHT
TZOFFSETFROM:-0500
TZOFFSETTO:-0400
TZNAME:EDT
DTSTART:20170312T070000
END:DAYLIGHT
BEGIN:STANDARD
TZOFFSETFROM:-0400
TZOFFSETTO:-0500
TZNAME:EST
DTSTART:20171105T060000
END:STANDARD
BEGIN:DAYLIGHT
TZOFFSETFROM:-0500
TZOFFSETTO:-0400
TZNAME:EDT
DTSTART:20180311T070000
END:DAYLIGHT
BEGIN:STANDARD
TZOFFSETFROM:-0400
TZOFFSETTO:-0500
TZNAME:EST
DTSTART:20181104T060000
END:STANDARD
BEGIN:DAYLIGHT
TZOFFSETFROM:-0500
TZOFFSETTO:-0400
TZNAME:EDT
DTSTART:20190310T070000
END:DAYLIGHT
BEGIN:STANDARD
TZOFFSETFROM:-0400
TZOFFSETTO:-0500
TZNAME:EST
DTSTART:20191103T060000
END:STANDARD
END:VTIMEZONE
BEGIN:VEVENT
DTSTART;VALUE=DATE:20150102
DTEND;VALUE=DATE:20180103
DTSTAMP:20260421T205547
CREATED:20140127T195420Z
LAST-MODIFIED:20150123T182616Z
UID:10000061-1420156800-1514937599@theaahp.org
SUMMARY:Homeopathic Labeling: The FDA Is Watching - Webinar Archive
DESCRIPTION:AAHP Compliance Thru Education Webinar ARCHIVE \nMore than at any other time\, the FTC and FDA continue to increase their scrutiny of homeopathic drug labeling and advertising. In order to protect your consumers\, your brands\, and your business\, it is critical to have a thorough understanding of regulatory requirements. \nThis webinar provides a comprehensive overview of the requirements of the FDA Compliance Policy Guide for Homeopathic Drug Products\, the HPUS Labeling Guidelines\, and the regulations governing drug labeling and claims across the marketing mix\, from product labels to websites to advertising. \nIn This Webinar Archive You’ll Learn How To:\n\nprotect your consumers\, products\, brands\, while avoiding costly errors by complying with all HPUS and required FDA labeling requirements.\nensure your label has the required Drug Facts panel and warnings\, and that you have the necessary substantiation and controls necessary for all claims.\ncreate advertising\, websites\, POS\, and other communications that maximize competitive advantage while adhering to the required labeling regulations.\ndistinguish OTC from Rx claims.\n\nNote: this webinar can also be utilized by your staff in fulfillment of your required mandatory training requirements. Homeopathic manufacturers and marketers have found the AAHP to be an excellent third party source for this training. \nWho Should View:\n\nManufacturers\, private label producers\, distributors\, and or marketers of homeopathic products.\nQA/QC professionals\, marketing/PR staff\, packaging/regulatory managers\, and executives who manage or oversee labeling\, consumer communications\, and/or risk management.\n\nThis efficient 2.5 hour webinar archive features an expert panel of noted homeopathic industry consultants discussing the current regulatory guidelines\, potential pitfalls to avoid\, developing corporate guidelines/GMPS\, as well as an Question and Answer period to addresses individual issues: \nMeet the Presenters\nAl Lorman Esq — AAHP counsel and authority on the Compliance Policy Guide. Al provides an overview of the FDA & FTC Advertising Review Process\, an overview of recent enforcement actions and warning letters\, and provides guidance for avoiding these mistakes. He also discusses OTC vs. Rx claims\, and regulation of products containing both homeopathic and other allopathic drugs or supplements. \nEric Foxman\, RPh –Secretary for the AAHP\, Board Member of the HPCUS\, and consultant on regulatory and GMP issues with over 35 years of involvement in the homeopathic pharmacy and manufacturing. Eric discusses the labeling requirements of the HPUS\, the drug facts statements\, and critical points regarding label formats and dosing\, as well as requirements for marketing to adults vs. children. \nGeorge Bernstein PhD — Pharmaceutical consultant improving the efficiency\, compliance\, and quality of small\, medium\, and large domestic and global pharmaceutical companies. George provides guidance on creating a claims substantiation file\, on using all the correct warnings for safety and specific condition claims. He also reviews proper cGMPs of labeling\, approvals/sign off\, change control\, revision numbers\, and label inventory controls. \nThis 2.5 hour Webinar DVD also contains all the handouts available during the original on-line event. \nWebinar DVD archives can be ordered directly from the AAHP office at 4332 SE Logus Road\, Milwaukie\, OR 97222.  The cost of the DVD Archive is $395 (includes S&H); AAHP members get a $200 discount. \n[button color=”blue” url=”mailto:info@theaahp.org?subject=Homeopathic Labeling Webinar Archive Inquiry” size=”small”]Click here to order.[/button]
URL:https://theaahp.org/event/homeopathic-labeling-the-fda-is-watching/
LOCATION:Webinar Archive
CATEGORIES:Webinar,Webinar Archive
END:VEVENT
BEGIN:VEVENT
DTSTART;VALUE=DATE:20150101
DTEND;VALUE=DATE:20180102
DTSTAMP:20260421T205547
CREATED:20140604T182631Z
LAST-MODIFIED:20150123T182455Z
UID:10000051-1420070400-1514851199@theaahp.org
SUMMARY:Homeopathic Pharmacopeia – 2014 Updates – Is Your Company Ready?  Webinar Archive
DESCRIPTION:AAHP Compliance Thru Education Webinar ARCHIVE \nIn 2014\, the Homeopathic Pharmacopeia Convention of the United States (HPCUS) completed another round of updates building on the changes that were drafted in 2013 and approved for final publication in April of that year. In addition to the finalized and approved Guidelines for Manufacturing Homeopathic Medicines\, four new documents were posted for public comment\, as well as 6 new monographed substances. This webinar archive provides an orientation to these changes as well as discusses the implementation schedule for the guideline documents. \nThree members of the HPCUS present overviews of the approved changes and the public comment period for the draft documents. Eric Foxman has been deeply involved in the drafting and revisions of these important guideline documents for the past several years. He is joined by AAHP Board member Mary Beth Watkins\, who has been leading the drafting of a brand new guideline document on Homeopathic Drug Stability Guidelines. The third presenter will be Eric Baier\, a member of the HPCUS Council on Pharmacy\, where he chaired the ad hoc subcommittee that created an updated Homeopathic Labeling Guideline document. \nView this AAHP presentation on the 2014 changes and proposed updates to the HPUS. This 90 minute webinar archive will provide you with a concise overview of important information contained in the new guideline documents as well as giving you insights into how comments on the proposed changes can be submitted to the HPCUS. The Archive DVD contains all the handouts available during the original on-line event. \nNote: this webinar can also be utilized by your staff in fulfillment of your required mandatory training requirements. Homeopathic manufacturers and marketers have found the AAHP to be an excellent third party source for this training. \nWho should view this webinar?  \n\nOwners\, CEOs and management responsible for regulatory compliance.\nStaff responsible for compliant labeling.\nQA/QC personnel who need to know the guidance information provided by the HPUS for stability assurance.\nManufacturers\, contract manufacturers and private label producers responsible for product development and support of their clients’ marketing.\nMarketers of private label brands responsible for compliant labeling of their homeopathic products.\n\nWebinar DVD archives can be ordered directly from the AAHP office at 4332 SE Logus Road\, Milwaukie\, OR 97222.  The cost of the DVD Archive is $239 (includes S&H); AAHP members get a $100 discount.\n \n[button color=”blue” url=”mailto:info@theaahp.org?subject=HPUS Updates 2014 Webinar Archive Inquiry” size=”small”]Click here to order.[/button]
URL:https://theaahp.org/event/homeopathic-pharmacopeia-a-new-round-of-updates-is-your-company-ready/
LOCATION:Webinar Archive
CATEGORIES:Webinar,Webinar Archive
END:VEVENT
BEGIN:VEVENT
DTSTART;TZID=America/New_York:20140919T090000
DTEND;TZID=America/New_York:20140919T113000
DTSTAMP:20260421T205547
CREATED:20140604T181531Z
LAST-MODIFIED:20140604T181559Z
UID:10000063-1411117200-1411126200@theaahp.org
SUMMARY:Members’ Meeting Is Just Around The Corner
DESCRIPTION:Plan to attend the AAHP’s Semi-Annual Membership Meeting in Baltimore\, MD on Friday\, September 19.  We plan on giving our members updates on our activities as well as a special presentation during the meeting. More information will follow in a future NetworkNews. \nAs usual\, the meeting will be held in conjunction with Natural Products ExpoEast\, on Friday morning\, September 19 in the Holiday Inn Downtown Hotel. This is the same location as our last two September meetings\, and is located at 301 West Lombard Street\, just a block from the Convention Center. Accommodations in Baltimore are going fast\, so be sure to get your overnight rooms soon so you can attend.
URL:https://theaahp.org/event/members-meeting-is-just-around-the-corner/
LOCATION:Holiday Inn Baltimore-Inner Harbor\, 301 West Lombard Street\, Baltimore\, MD\, 21201\, United States
CATEGORIES:Meeting
END:VEVENT
END:VCALENDAR